BEGIN:VCALENDAR
PRODID:-//eluceo/ical//2.0/EN
VERSION:2.0
CALSCALE:GREGORIAN
BEGIN:VEVENT
UID:e195eefb664987b01d538f6b9113e9c8
DTSTAMP:20260423T083425Z
SUMMARY:Pre-Rosh Hashanah Mega Challah Bake
DESCRIPTION:Jewish Federation of Greater Portland\nCommunity Calendar\nhttp
 s://jewishportland.org/community-calendar/pre-rosh-hashanah-mega-challah-b
 ake-1692384616\n\nJoin us for an empowering Women's Challah Bake! Discover
  the age-old tradition of baking challah\, the beautiful braided bread\, i
 n a warm and inclusive atmosphere. Come together with other incredible wom
 en to mix\, knead\, and shape dough while sharing stories and laughter. Un
 leash your creativity as we explore various braiding techniques\, and end 
 the evening with a sense of pride\, accomplishment\, and delicious homemad
 e challah to take home. This event promises to be a delightful celebration
  of ...
DTSTART;TZID=America/Los_Angeles:20230907T184500
DTEND;TZID=America/Los_Angeles:20230907T210000
END:VEVENT
END:VCALENDAR
