BEGIN:VCALENDAR
PRODID:-//eluceo/ical//2.0/EN
VERSION:2.0
CALSCALE:GREGORIAN
BEGIN:VEVENT
UID:1a9b048be0fa739033e6437b7f878fdd
DTSTAMP:20260422T155915Z
SUMMARY:Portland Young Adult Seder
DESCRIPTION:Jewish Federation of Greater Portland\nCommunity Calendar\nhttp
 s://jewishportland.org/community-calendar/portland-young-adult-seder-17117
 25876\n\nRaise a glass (or four) at Portland’s Young Adult Seder. This m
 usical\, interactive Seder experience\, led by Congregation Beth Israel’
 s Cantor Rayna Green\, is a great way to connect with Jews in their 20s an
 d 30s across the Portland area while enjoying a light Passover meal. $18/p
 erson\, age 21 and over. This is a child-free gathering (but we hope to ha
 ve family friendly events in the future!).\n\nRegister at https://bethisra
 elpdx.shulcloud.com/form/youngseder\n\nPlease email...
DTSTART;TZID=America/Los_Angeles:20240427T180000
DTEND;TZID=America/Los_Angeles:20240427T200000
END:VEVENT
END:VCALENDAR
