BEGIN:VCALENDAR
PRODID:-//eluceo/ical//2.0/EN
VERSION:2.0
CALSCALE:GREGORIAN
BEGIN:VEVENT
UID:af1b9585d59290ae4c2f49d8cbd4f1bd
DTSTAMP:20260420T115841Z
SUMMARY:Portland Klezmer Festival Saturday Concert
DESCRIPTION:Jewish Federation of Greater Portland\nCommunity Calendar\nhttp
 s://jewishportland.org/community-calendar/portland-klezmer-festival-saturd
 ay-concert-1695241676\n\nBubbaville Presents the 2nd annual Portland Klezm
 er Festival in partnership with Co/lab!\nJoin us for our grand SATURDAY EV
 ENING CONCERT\nWith music by klezmer supergroup New Fiddle Kapelye (Jake S
 hulman-Ment\, Abigale Reisman\, Pete Rushefsky\, and Stu Brotman) and Seat
 tle-based trio Brivele\n7:30pm at Eastside Jewish Commons\nSliding scale $
 15-22\, festival passes also available\nTickets and more info at Bubbavill
 e.org/klezmer
DTSTART;TZID=America/Los_Angeles:20231104T193000
DTEND;TZID=America/Los_Angeles:20231104T213000
END:VEVENT
END:VCALENDAR
