BEGIN:VCALENDAR
PRODID:-//eluceo/ical//2.0/EN
VERSION:2.0
CALSCALE:GREGORIAN
BEGIN:VEVENT
UID:8f78e287b463e09560af9af663aa1d10
DTSTAMP:20260420T115831Z
SUMMARY:Portland Klezmer Festival Opening Concert and Jam!
DESCRIPTION:Jewish Federation of Greater Portland\nCommunity Calendar\nhttp
 s://jewishportland.org/community-calendar/portland-klezmer-festival-openin
 g-concert-and-jam-1695240798\n\nBubbaville Presents the 2nd annual Portlan
 d Klezmer Festival in partnership with Co/lab!\nJoin us for our opening ni
 ght concert and jam at Alberta Street Pub\nWith music by local klezmer lum
 inaries Yankl Falk&#39\;s Carpathian-Pacific Express and the Bieszczady Mo
 untain Boys\nConcert at 7:30\, jamming at 9:30\nSliding scale $12-15\, fes
 tival passes also available\nTickets and more info at Bubbaville.org/klezm
 er
DTSTART;TZID=America/Los_Angeles:20231102T193000
DTEND;TZID=America/Los_Angeles:20231102T223000
END:VEVENT
END:VCALENDAR
