BEGIN:VCALENDAR
PRODID:-//eluceo/ical//2.0/EN
VERSION:2.0
CALSCALE:GREGORIAN
BEGIN:VEVENT
UID:c73871b8a2eb500daae0450babf9684d
DTSTAMP:20260420T115836Z
SUMMARY:Portland Klezmer Festival Final Concert and Dance Party!
DESCRIPTION:Jewish Federation of Greater Portland\nCommunity Calendar\nhttp
 s://jewishportland.org/community-calendar/portland-klezmer-festival-final-
 concert-and-dance-party-1695266230\n\nBubbaville presents the 2nd Annual P
 ortland Klezmer Festival in partnership with Co/lab! Join us at the Eastsi
 de Jewish Commons for our grand finale concert and dance party with local 
 darlings Michelle Alany and the Mystics\, New Fiddle Kapelye\, and more! M
 usic at 7:30\, dancing at 8:30 Sliding scale $15-22\, festival passes also
  available Tickets and more info at bubbaville.org/klezmer
DTSTART;TZID=America/Los_Angeles:20231105T193000
DTEND;TZID=America/Los_Angeles:20231105T223000
END:VEVENT
END:VCALENDAR
