BEGIN:VCALENDAR
PRODID:-//eluceo/ical//2.0/EN
VERSION:2.0
CALSCALE:GREGORIAN
BEGIN:VEVENT
UID:9dc83a2382fbe0510a23fcda22069aec
DTSTAMP:20260422T155745Z
SUMMARY:Portland Klezmer Festival: Afternoon workshops and jamming
DESCRIPTION:Jewish Federation of Greater Portland\nCommunity Calendar\nhttp
 s://jewishportland.org/community-calendar/portland-klezmer-festival-aftern
 oon-workshops-and-jamming-1695265930\n\nBubbaville Presents the 2nd annual
  Portland Klezmer Festival in partnership with Co/lab! Join us at The East
 side Jewish Commons for an afternoon of workshops and jamming More details
  coming soon at Bubbaville.org/klezmer $25 for one workshop\, $35 for two\
 , festival passes also available Tickets and more info at Bubbaville.org/k
 lezmer
DTSTART;TZID=America/Los_Angeles:20231105T130000
DTEND;TZID=America/Los_Angeles:20231105T170000
END:VEVENT
END:VCALENDAR
