BEGIN:VCALENDAR
PRODID:-//eluceo/ical//2.0/EN
VERSION:2.0
CALSCALE:GREGORIAN
BEGIN:VEVENT
UID:692f984ff9d73c9eadb802b49399cd3f
DTSTAMP:20260422T225928Z
SUMMARY:Portland Film Screening of Monument
DESCRIPTION:Jewish Federation of Greater Portland\nCommunity Calendar\nhttp
 s://jewishportland.org/community-calendar/portland-film-screening-of-monum
 ent-1696981677\n\nMonument integrates an intimate family story with a batt
 le over memory happening through monuments and memorials\, and the way his
 tory is taught and shared in public spaces. Turner and his camera travel f
 rom Budapest into the Hungarian countryside where his grandmother grew up\
 , and where the Jewish population lives in a state between hiding and exti
 nction. In basement archives and makeshift synagogues\, he introduces us t
 o Hungarians of different faiths and backgrounds working to keep this...
DTSTART;TZID=America/Los_Angeles:20231018T191500
DTEND;TZID=America/Los_Angeles:20231018T211500
END:VEVENT
END:VCALENDAR
