BEGIN:VCALENDAR
PRODID:-//eluceo/ical//2.0/EN
VERSION:2.0
CALSCALE:GREGORIAN
BEGIN:VEVENT
UID:00b7d34e6505de7ed0a0576ce17f64df
DTSTAMP:20260421T195014Z
SUMMARY:P'nai Or Simchat Torah
DESCRIPTION:Jewish Federation of Greater Portland\nCommunity Calendar\nhttp
 s://jewishportland.org/community-calendar/pnai-or-simchat-torah-1695069943
 \n\nSaturday\, Oct 7\, 6:30 p.m. Sinchat Torah with multiple leaders downs
 tairs at the Hillsdale Church of Christ.
DTSTART;TZID=America/Los_Angeles:20231007T183000
DTEND;TZID=America/Los_Angeles:20231007T203000
END:VEVENT
END:VCALENDAR
