BEGIN:VCALENDAR
PRODID:-//eluceo/ical//2.0/EN
VERSION:2.0
CALSCALE:GREGORIAN
BEGIN:VEVENT
UID:f46e24be96ca5459e70193cecefad097
DTSTAMP:20260422T082524Z
SUMMARY:P'nai Or\, Shabbat in the Sukkah
DESCRIPTION:Jewish Federation of Greater Portland\nCommunity Calendar\nhttp
 s://jewishportland.org/community-calendar/pnai-or-shabbat-in-the-sukkah-16
 95069136\n\nShabbat morning in the Sukkot with Rabbi Hannah Laner\, Hazzan
  Baruch Morris and Mashpi'ah Zahavi . Private home.  Email admin@pnaiorpdx
 .or for more information.
DTSTART;TZID=America/Los_Angeles:20230930T103000
DTEND;TZID=America/Los_Angeles:20230930T123000
END:VEVENT
END:VCALENDAR
