BEGIN:VCALENDAR
PRODID:-//eluceo/ical//2.0/EN
VERSION:2.0
CALSCALE:GREGORIAN
BEGIN:VEVENT
UID:0706c4f9f985cd65ce32584dda9e4fd8
DTSTAMP:20260423T023513Z
SUMMARY:P'nai Or\, Kabbalat Shabbat in the Sukkah
DESCRIPTION:Jewish Federation of Greater Portland\nCommunity Calendar\nhttp
 s://jewishportland.org/community-calendar/pnai-or-kabbalat-shabbat-in-the-
 sukkah-1695069499\n\nKabbalat Shabbat in the Sukkah with Rabbinical studen
 t Zmira Lovejoy.  Private home.  Contact admin@pnaiorpdx.org for more info
 rmation.
DTSTART;TZID=America/Los_Angeles:20231006T183000
DTEND;TZID=America/Los_Angeles:20231006T203000
END:VEVENT
END:VCALENDAR
