BEGIN:VCALENDAR
PRODID:-//eluceo/ical//2.0/EN
VERSION:2.0
CALSCALE:GREGORIAN
BEGIN:VEVENT
UID:f2b5accc02095d1bf780c4fc79794495
DTSTAMP:20260420T072731Z
SUMMARY:Playing Legos with Atoms: featuring Technion PhD candidate Lishai N
 ewman
DESCRIPTION:Jewish Federation of Greater Portland\nCommunity Calendar\nhttp
 s://jewishportland.org/community-calendar/playing-legos-with-atoms-featuri
 ng-technion-phd-candidate-lishai-newman-1717536001\n\nJoin the American Te
 chnion Society (ATS) for a special program with Technion PhD candidate Lis
 hai Newman.\n\nContact Yonatan Melamed at yonatan@ats.org for more informa
 tion.
DTSTART;TZID=America/Los_Angeles:20240617T180000
DTEND;TZID=America/Los_Angeles:20240617T200000
END:VEVENT
END:VCALENDAR
