BEGIN:VCALENDAR
PRODID:-//eluceo/ical//2.0/EN
VERSION:2.0
CALSCALE:GREGORIAN
BEGIN:VEVENT
UID:787ee3ced17c01037bbf4f1444c9a14c
DTSTAMP:20260419T175657Z
SUMMARY:PJA Back-to-School Picnic
DESCRIPTION:Jewish Federation of Greater Portland\nCommunity Calendar\nhttp
 s://jewishportland.org/community-calendar/pja-back-to-school-picnic-171944
 3597\n\nFor PJA families with students entering Pre-K through 6th grade.
DTSTART;TZID=America/Los_Angeles:20240825T120000
DTEND;TZID=America/Los_Angeles:20240825T140000
END:VEVENT
END:VCALENDAR
