BEGIN:VCALENDAR
PRODID:-//eluceo/ical//2.0/EN
VERSION:2.0
CALSCALE:GREGORIAN
BEGIN:VEVENT
UID:2d912b30c5f9b9e48985de818bbc723e
DTSTAMP:20260423T184608Z
SUMMARY:Pink Shabbat at Neveh Shalom
DESCRIPTION:Jewish Federation of Greater Portland\nCommunity Calendar\nhttp
 s://jewishportland.org/community-calendar/pink-shabbat-at-neveh-shalom\n\n
 Friday February 16\nIsaak Foyer/Stampfer Chapel\n\n\nPink Shabbat Soirée
 \, 5:15pm\nShabbat Services\, 6:15pm\n\n\n \n\nRaise a Glass\, Raise Awar
 eness! Everyone is invited to join us prior to our service for our Pink 
 Shabbat Soirée\, with light refreshments and a glass of rosé.\n\n \n\nJ
 oin Rabbi Posen and Cantor Bitton for a deep and moving Kabbalat Shabbat s
 ervice.\n\nClick here to register.
DTSTART;TZID=America/Los_Angeles:20240216T171500
DTEND;TZID=America/Los_Angeles:20240216T191500
END:VEVENT
END:VCALENDAR
