BEGIN:VCALENDAR
PRODID:-//eluceo/ical//2.0/EN
VERSION:2.0
CALSCALE:GREGORIAN
BEGIN:VEVENT
UID:4eab9b5f2cf54519156849fd2fbcfe1a
DTSTAMP:20260426T021445Z
SUMMARY:Passover Seder Matching with Shaarie Torah
DESCRIPTION:Jewish Federation of Greater Portland\nCommunity Calendar\nhttp
 s://jewishportland.org/community-calendar/passover-seder-matching-with-sha
 arie-torah\n\nSeder Matching!\n\nPassover starts Wednesday\, April 5 and\
 n\n﻿we want to help you fill or find a seat at a seder!\n\nIf you are p
 lanning to host a seder and have an open seat or if you are looking for 
 a seat at a seder\, please call or email Linda in the office to let her k
 now you want to be added to our list and we will be doing the match making
 ! You can reach Linda during office hours Mondays\, Wednesdays\, & Thursda
 ys from 10 am – 2 pm at (503)226-6131 or by emailing cst@shaarietora...
DTSTART;TZID=America/Los_Angeles:20230405T100000
DTEND;TZID=America/Los_Angeles:20230406T140000
END:VEVENT
END:VCALENDAR
