BEGIN:VCALENDAR
PRODID:-//eluceo/ical//2.0/EN
VERSION:2.0
CALSCALE:GREGORIAN
BEGIN:VEVENT
UID:ff84f43442bcacbd77b559ea664fb969
DTSTAMP:20260422T224949Z
SUMMARY:Outdoor Rosh Hashanah Dinner/Seder and Prayer at Gesher
DESCRIPTION:Jewish Federation of Greater Portland\nCommunity Calendar\nhttp
 s://jewishportland.org/community-calendar/outdoor-rosh-hashanah-dinnersede
 r-and-prayer-at-gesher\n\nRosh Hashanah Evening Festive Dinner and Shabbat
  Celebration\n\nFriday night\, September 15th at 5:30 pm\n\n \n\nGesher i
 nvites you to join Rabbi Laurie Rutenberg and Rabbi Gary Schoenberg at the
 ir home for an intimate heart-centered and delicious Rosh Hashanah dinner
  to enter into the Jewish New Year.\n\nThe Rosh Hashanah dinner  and sed
 er with candlelighting\, song\, prayer and the sharing of our blessings an
 d our spiritual challenges becoming opportunities.  We will celebrate und
 erneath ...
DTSTART;TZID=America/Los_Angeles:20230915T173000
DTEND;TZID=America/Los_Angeles:20230915T203000
END:VEVENT
END:VCALENDAR
