BEGIN:VCALENDAR
PRODID:-//eluceo/ical//2.0/EN
VERSION:2.0
CALSCALE:GREGORIAN
BEGIN:VEVENT
UID:8817d8885c517ce35feb4325e1469c83
DTSTAMP:20260426T040244Z
SUMMARY:Oregon Jewish Community Youth Foundation (OJCYF) Annual Benefit Din
 ner
DESCRIPTION:Jewish Federation of Greater Portland\nCommunity Calendar\nhttp
 s://jewishportland.org/community-calendar/oregon-jewish-community-youth-fo
 undation-ojcyf-annual-benefit-dinner-1674164240\n\nOregon Jewish Community
  Youth Foundation (OJCYF) Annual Benefit Dinner
DTSTART;TZID=America/Los_Angeles:20230420T173000
DTEND;TZID=America/Los_Angeles:20230420T203000
END:VEVENT
END:VCALENDAR
