BEGIN:VCALENDAR
PRODID:-//eluceo/ical//2.0/EN
VERSION:2.0
CALSCALE:GREGORIAN
BEGIN:VEVENT
UID:ccd20e2b76f05a96411af26b95ed0685
DTSTAMP:20260423T201619Z
SUMMARY:Oregon Hillel's 30th Anniversary
DESCRIPTION:Jewish Federation of Greater Portland\nCommunity Calendar\nhttp
 s://jewishportland.org/community-calendar/oregon-hillels-30th-anniversary-
 1692718575\n\nWe’re honoring the Jewish UO alumni and leaders from every
  class who helped build the community that we are today. That means you!
  Join Oregon Hillel as we celebrate our 30th anniversary with a festive di
 nner on the UO campus in Eugene and a weekend full of events!\n\nReconnect
  with old friends and meet alumni from other eras who helped make Oregon H
 illel one of the most engaging and impactful student groups in the country
 !\n\nSpecial thanks to our host committee: Sarah Rosenberg Brown\,...
DTSTART;TZID=America/Los_Angeles:20231014T184500
DTEND;TZID=America/Los_Angeles:20231014T210000
END:VEVENT
END:VCALENDAR
