BEGIN:VCALENDAR
PRODID:-//eluceo/ical//2.0/EN
VERSION:2.0
CALSCALE:GREGORIAN
BEGIN:VEVENT
UID:1741732b32e0b53844cd3d06b42ae79a
DTSTAMP:20260423T151029Z
SUMMARY:OJMCHE Members Opening New Gallery
DESCRIPTION:Jewish Federation of Greater Portland\nCommunity Calendar\nhttp
 s://jewishportland.org/community-calendar/ojmche-members-opening-new-galle
 ry-1675961416\n\nMembers opening for OJMCHE&#39\;s new exhibition and gall
 ery.
DTSTART;TZID=America/Los_Angeles:20230611T093000
DTEND;TZID=America/Los_Angeles:20230611T110000
END:VEVENT
END:VCALENDAR
