BEGIN:VCALENDAR
PRODID:-//eluceo/ical//2.0/EN
VERSION:2.0
CALSCALE:GREGORIAN
BEGIN:VEVENT
UID:9efab356fa276639d765fc694e40925c
DTSTAMP:20260425T113903Z
SUMMARY:OJMCHE Gala
DESCRIPTION:Jewish Federation of Greater Portland\nCommunity Calendar\nhttp
 s://jewishportland.org/community-calendar/ojmche-gala-1663707271\n\nOJMCHE
 's Annual Gala\, details to follow!
DTSTART;TZID=America/Los_Angeles:20230423T170000
DTEND;TZID=America/Los_Angeles:20230423T210000
END:VEVENT
END:VCALENDAR
