BEGIN:VCALENDAR
PRODID:-//eluceo/ical//2.0/EN
VERSION:2.0
CALSCALE:GREGORIAN
BEGIN:VEVENT
UID:61e15d23487d6d6b7cb8f0b307db46b3
DTSTAMP:20260420T144603Z
SUMMARY:OJCF Annual Meeting
DESCRIPTION:Jewish Federation of Greater Portland\nCommunity Calendar\nhttp
 s://jewishportland.org/community-calendar/ojcf-annual-meeting-1703177260\n
 \n2024 OJCF Annual Meeting. More details to come.
DTSTART;TZID=America/Los_Angeles:20240617T170000
DTEND;TZID=America/Los_Angeles:20240617T193000
END:VEVENT
END:VCALENDAR
