BEGIN:VCALENDAR
PRODID:-//eluceo/ical//2.0/EN
VERSION:2.0
CALSCALE:GREGORIAN
BEGIN:VEVENT
UID:5558749b91cd939fc8e6c814037709aa
DTSTAMP:20260426T000847Z
SUMMARY:North  Coast Shabbat Group
DESCRIPTION:Jewish Federation of Greater Portland\nCommunity Calendar\nhttp
 s://jewishportland.org/community-calendar/north--coast-shabbat-group-16844
 60898\n\nKabbalat Shabbat services\, 7:30-8:30 pm at the Bob Chisolm Commu
 nity Center\, 1225 Avenue A \, Seaside\, Oregon . Kiddush and dessert afte
 r. Services will be on May 26\, (Leaders: Jemi Kostiner Mansfield & Jennif
 er Felsberg \, June 30\, Leader: Rabbi Gary Oregon of Congregation Shaarie
  Torah \, July 28\, Leader: Neil Weinstein \, September 1 \, Leader\; Dr. 
 Avrel Nudelman)
DTSTART;TZID=America/Los_Angeles:20230526T193000
DTEND;TZID=America/Los_Angeles:20230526T213000
END:VEVENT
END:VCALENDAR
