BEGIN:VCALENDAR
PRODID:-//eluceo/ical//2.0/EN
VERSION:2.0
CALSCALE:GREGORIAN
BEGIN:VEVENT
UID:5771826ab308c6366c574437c9cc128a
DTSTAMP:20260420T030637Z
SUMMARY:Niggun Event
DESCRIPTION:Jewish Federation of Greater Portland\nCommunity Calendar\nhttp
 s://jewishportland.org/community-calendar/niggun-event-1701298665\n\nJoin 
 us to congregate through songs and snacks.
DTSTART;TZID=America/Los_Angeles:20231213T180000
DTEND;TZID=America/Los_Angeles:20231213T200000
END:VEVENT
END:VCALENDAR
