BEGIN:VCALENDAR
PRODID:-//eluceo/ical//2.0/EN
VERSION:2.0
CALSCALE:GREGORIAN
BEGIN:VEVENT
UID:50eb1bc061017650b6ddc7c757f409e5
DTSTAMP:20260420T043629Z
SUMMARY:Nibbles & Narratives: A Haggadah-Making Workshop
DESCRIPTION:Jewish Federation of Greater Portland\nCommunity Calendar\nhttp
 s://jewishportland.org/community-calendar/nibbles-narratives-a-haggadah-ma
 king-workshop\n\nSunday\, March 17\, 2024\n2:00 PM - 4:00 PM\nCongregation
  Neveh Shalom\, Room 102\n\nDrawing from the Feldstein&#39\;s Library exte
 nsive and eclectic collection of haggadot\, with librarian and rabbinical 
 guidance\, we’ll provide all the materials you need to create your one-o
 f-a-kind haggadah to bring extra meaning to your Passover seder. “Cut an
 d paste” from haggadot with themes like:\n\n-    Traditional\n-   
  Feminist\n-    Archaeological\n-    Kids’\n-    Humorous\n- 
    Ba...
DTSTART;TZID=America/Los_Angeles:20240317T140000
DTEND;TZID=America/Los_Angeles:20240317T160000
END:VEVENT
END:VCALENDAR
