BEGIN:VCALENDAR
PRODID:-//eluceo/ical//2.0/EN
VERSION:2.0
CALSCALE:GREGORIAN
BEGIN:VEVENT
UID:04402a35e623a6a3220f009abaa17df5
DTSTAMP:20260425T000449Z
SUMMARY:Newish to Jewish Spiritual Meal Before the Fast and Yom Kippur Serv
 ice
DESCRIPTION:Jewish Federation of Greater Portland\nCommunity Calendar\nhttp
 s://jewishportland.org/community-calendar/newish-to-jewish-spiritual-meal-
 before-the-fast-and-yom-kippur-services\n\nGesher invites you to join Rabb
 i Laurie Rutenberg and Rabbi Gary Schoenberg at their home for an intimate
  Yom Kippur Observance\n\nThis year&#39\;s Yom Kippur celebration at Geshe
 r is especially geared to those who are “newish to Jewish\,” but we ho
 pe that it will open the hearts of all\, no matter how many rounds of Yom 
 Kippur we have engaged in in our lives. The Pre- Fast Menu on Sunday\, Sep
 tember 24th at 4:45 PM will feature Home Smoked Salmon\, Onion Soup\, Tzim
 mes\, Kugel\, Mushroom Strudel\, Sa...
DTSTART;TZID=America/Los_Angeles:20230924T164500
DTEND;TZID=America/Los_Angeles:20230924T200000
END:VEVENT
END:VCALENDAR
