BEGIN:VCALENDAR
PRODID:-//eluceo/ical//2.0/EN
VERSION:2.0
CALSCALE:GREGORIAN
BEGIN:VEVENT
UID:5cad35d59af88eee1e5099672b2a9798
DTSTAMP:20260425T000457Z
SUMMARY:Newish to Jewish Rosh Hashanah Morning Service\, Lunch\, Tashlich a
 t Gesher
DESCRIPTION:Jewish Federation of Greater Portland\nCommunity Calendar\nhttp
 s://jewishportland.org/community-calendar/newish-to-jewish-rosh-hashanah-m
 orning-service-lunch-tashlich-at-gesher\n\nRosh Hashanah Morning Service\,
  Lunch and Tashlich at Gesher\n\nSaturday\, September 16th at 10:00 am\n\n
  \n\nGesher invites you to join Rabbi Laurie Rutenberg and Rabbi Gary Sch
 oenberg at their home for an outdoor\, welcoming Jewish prayer experience 
 that offers opportunities for sharing where we are in our soul-life as we 
 enter the Jewish New Year with prayer\, song\, and Torah.  A festive vege
 tarian lunch and a walk to Marshall Park for Tashlich follow the service.\
 n\n \n\nThis celebration i...
DTSTART;TZID=America/Los_Angeles:20230916T100000
DTEND;TZID=America/Los_Angeles:20230916T120000
END:VEVENT
END:VCALENDAR
