BEGIN:VCALENDAR
PRODID:-//eluceo/ical//2.0/EN
VERSION:2.0
CALSCALE:GREGORIAN
BEGIN:VEVENT
UID:a34c27b4e81bd609edefdd6e0f8ed15a
DTSTAMP:20260420T223140Z
SUMMARY:Neveh Shalom Wondering Jews Cinema: The Jazz Singer
DESCRIPTION:Jewish Federation of Greater Portland\nCommunity Calendar\nhttp
 s://jewishportland.org/community-calendar/neveh-shalom-wondering-jews-cine
 ma-the-jazz-singer\n\nJoin us for a captivating afternoon as we screen "Th
 e Jazz Singer" (1980). Featuring an impressive cast including Neil Diamond
  in his acting debut\, Lord Laurence Olivier\, and Lucie Arnaz\, this movi
 e delves into the journey of a young Jewish singer navigating the complexi
 ties between honoring tradition and chasing his aspirations in the world o
 f pop music.\n\n \n\nPopcorn and drinks to be served.\n\n \n\nRSVP at ht
 tps://members.nevehshalom.org/event/WJJazzSinger!
DTSTART;TZID=America/Los_Angeles:20231108T130000
DTEND;TZID=America/Los_Angeles:20231108T160000
END:VEVENT
END:VCALENDAR
