BEGIN:VCALENDAR
PRODID:-//eluceo/ical//2.0/EN
VERSION:2.0
CALSCALE:GREGORIAN
BEGIN:VEVENT
UID:d7ee25dd2951564a3817eb40f9d16c91
DTSTAMP:20260421T233941Z
SUMMARY:Hoshana Rabah Service - Neveh Shalom
DESCRIPTION:Jewish Federation of Greater Portland\nCommunity Calendar\nhttp
 s://jewishportland.org/community-calendar/neveh-shalom-hoshana-rabah-servi
 ce\n\n9:00am Hoshana Rabah Service \n6:15pm Friday Evening Festival Shabba
 t Service
DTSTART;TZID=America/Los_Angeles:20231006T000000
DTEND;TZID=America/Los_Angeles:20231006T235959
END:VEVENT
END:VCALENDAR
