BEGIN:VCALENDAR
PRODID:-//eluceo/ical//2.0/EN
VERSION:2.0
CALSCALE:GREGORIAN
BEGIN:VEVENT
UID:72d5d98ca7ce238a75eeb8addc80d774
DTSTAMP:20260421T004258Z
SUMMARY:Music by Mario Castelnuovo-Tedesco. Recital: Amy Hansen\, Cameron O
 'Connor.
DESCRIPTION:Jewish Federation of Greater Portland\nCommunity Calendar\nhttp
 s://jewishportland.org/community-calendar/music-by-mario-castelnuovo-tedes
 co-recital-amy-hansen-cameron-oconnor-1698870470\n\nPart of EJC's Crypto J
 udeo Storytelling week!
DTSTART;TZID=America/Los_Angeles:20231115T190000
DTEND;TZID=America/Los_Angeles:20231115T203000
END:VEVENT
END:VCALENDAR
