BEGIN:VCALENDAR
PRODID:-//eluceo/ical//2.0/EN
VERSION:2.0
CALSCALE:GREGORIAN
BEGIN:VEVENT
UID:24a5a492ec0424d0bd7c73386ecdcac9
DTSTAMP:20260419T205348Z
SUMMARY:Monthly Sephardic Community Shabbat Dinner
DESCRIPTION:Jewish Federation of Greater Portland\nCommunity Calendar\nhttp
 s://jewishportland.org/community-calendar/monthly-sephardic-community-shab
 bat-dinner-1698338980\n\nPlease join for a Community Sephardic Monthly Sha
 bbat Dinner - Sephardic Judaism is a treasury with something for everyone!
 \n\nJoin for a lovely Sephardic Kabbalat Service\, Shabbat Dinner and clas
 s by Rabbi Villarreal titled Kaminos: A Journey into Sephardic Spiritualit
 y and Thought. Discover why Sephardic Judaism is a treasury with something
  for EVERYONE.\n\nRSVP Required. Contact Melissa Abu for finacial assistan
 ce if need.
DTSTART;TZID=America/Los_Angeles:20231201T173000
DTEND;TZID=America/Los_Angeles:20231201T203000
END:VEVENT
END:VCALENDAR
