BEGIN:VCALENDAR
PRODID:-//eluceo/ical//2.0/EN
VERSION:2.0
CALSCALE:GREGORIAN
BEGIN:VEVENT
UID:69d319bc794c55042ff6935c501b5bfb
DTSTAMP:20260423T151048Z
SUMMARY:Mini Mensches Tot Shabbat
DESCRIPTION:Jewish Federation of Greater Portland\nCommunity Calendar\nhttp
 s://jewishportland.org/community-calendar/mini-mensches-tot-shabbat-168427
 7158\n\nWelcome Shabbat with singing\, dancing\, and sweetness! We will ga
 ther together inside in Pollin Chapel to sing Shabbat songs and end with a
  parade with our stuffed Torahs.\n\nWe'll have challah and juice following
  for the kids\, with plenty of space (and toys!) for them to play while pa
 rents have time to spend together getting to know one another (and enjoy s
 ome coffee).\n\nMini Mensches is geared towards kids ages 0-5 and welcomes
  the entire community at our events. Invite your friends!
DTSTART;TZID=America/Los_Angeles:20230617T090000
DTEND;TZID=America/Los_Angeles:20230617T100000
END:VEVENT
END:VCALENDAR
