BEGIN:VCALENDAR
PRODID:-//eluceo/ical//2.0/EN
VERSION:2.0
CALSCALE:GREGORIAN
BEGIN:VEVENT
UID:b95118905ab08a5041e8e6e0c79a2784
DTSTAMP:20260423T145816Z
SUMMARY:Mindfulness in Aging
DESCRIPTION:Jewish Federation of Greater Portland\nCommunity Calendar\nhttp
 s://jewishportland.org/community-calendar/mindfulness-in-aging-1687372246\
 n\nJoin Jewish Family & Child Service and David Molko\, LCSW\, for a discu
 ssion on legacy. \nExplore how your loved ones’ legacies inspire you and
  how your legacy may inspire generations to come.\nThe conversation is fol
 lowed by a delicious kosher lunch and schmoozing.\nMittleman Jewish Commun
 ity Center\n6651 S.W. Capitol Highway\, Portland\, OR 97219
DTSTART;TZID=America/Los_Angeles:20230628T103000
DTEND;TZID=America/Los_Angeles:20230628T133000
END:VEVENT
END:VCALENDAR
