BEGIN:VCALENDAR
PRODID:-//eluceo/ical//2.0/EN
VERSION:2.0
CALSCALE:GREGORIAN
BEGIN:VEVENT
UID:f85f2dfb91a5d21000bbe85ade61e7ff
DTSTAMP:20260420T035829Z
SUMMARY:LIVE MUSIC: LAMA LO? WITH CONGREGATION BETH ISRAEL
DESCRIPTION:Jewish Federation of Greater Portland\nCommunity Calendar\nhttp
 s://jewishportland.org/community-calendar/live-music-lama-lo-with-congrega
 tion-beth-israel-1700525409\n\nGive your Chanukah some musical shine with 
 Congregation beth Israel’s in-house band\, “Lama Lo?”! Cantors Ida R
 ae Cahana and Rayna Green\; singer/songwriter Kim Schneiderman\; pianist T
 im Ribner\, Plus Jonathan Meel\, banjo\; Ben Sandler\, bass\; Aaron Peters
 on\, horn\; Michael Galen and Arthur Steinhorn\, percussion.\n\nThis event
  is one of a series in celebration of Hanukkah. For more events\, go to ww
 w.latkesandlagers.com
DTSTART;TZID=America/Los_Angeles:20231211T190000
DTEND;TZID=America/Los_Angeles:20231211T210000
END:VEVENT
END:VCALENDAR
