BEGIN:VCALENDAR
PRODID:-//eluceo/ical//2.0/EN
VERSION:2.0
CALSCALE:GREGORIAN
BEGIN:VEVENT
UID:9bd2fd81431958b95d1d052e72cb0305
DTSTAMP:20260419T125511Z
SUMMARY:Cutting Edge Medical Creativity
DESCRIPTION:Jewish Federation of Greater Portland\nCommunity Calendar\nhttp
 s://jewishportland.org/community-calendar/lessons-learned-from-israeli-ped
 iatric-rehabilitation-1733947316\n\nExplore the cutting-edge pediatric and
  rehabilitation work of ALYN Hospital\, Jerusalem\, the first culturally c
 ompetent hospital in Israel--treating children and employing staff\, regar
 dless of their religion\, ethnicity\, or gender. ALYN provides “medical 
 and rehabilitation treatment for children and adolescents facing physical 
 challenges\, both congenital and acquired\, enabling them to function to t
 he best of their ability and integrate into their family life within the f
 ramework of a supporti...
DTSTART;TZID=America/Los_Angeles:20250122T190000
DTEND;TZID=America/Los_Angeles:20250122T203000
END:VEVENT
END:VCALENDAR
