BEGIN:VCALENDAR
PRODID:-//eluceo/ical//2.0/EN
VERSION:2.0
CALSCALE:GREGORIAN
BEGIN:VEVENT
UID:74bbb1a57142f1c54a2403063d033148
DTSTAMP:20260420T111231Z
SUMMARY:L'Chaim: A Hanukkah Pop Up Experience by Leikam Brewing
DESCRIPTION:Jewish Federation of Greater Portland\nCommunity Calendar\nhttp
 s://jewishportland.org/community-calendar/lchaim-a-hanukkah-pop-up-experie
 nce-by-leikam-brewing-1698972496\n\nChristmassy flavors like gingerbread a
 nd peppermint tend to appear everywhere this time of year. But folks who c
 elebrate Hanukkah have their own range of seasonal tastes\, and next month
 \, Portland will receive its first-ever Hanukkah-themed pop-up experience.
  L’Chaim: A Hanukkah Pop Up experience by Leikam Brewing. This year Hanu
 kkah begins Thursday\, December 7th at sundown\, but the pop up experience
  will run December 1-16th\, with events\, drinks and snacks inspired by th
 e Jewish holiday.\n\n...
DTSTART;TZID=America/Los_Angeles:20231201T160000
DTEND;TZID=America/Los_Angeles:20231215T230000
END:VEVENT
END:VCALENDAR
