BEGIN:VCALENDAR
PRODID:-//eluceo/ical//2.0/EN
VERSION:2.0
CALSCALE:GREGORIAN
BEGIN:VEVENT
UID:675cc004e3b58bf02891dff7baabe79e
DTSTAMP:20260426T021810Z
SUMMARY:Kol Shalom Yom Kippur Service
DESCRIPTION:Jewish Federation of Greater Portland\nCommunity Calendar\nhttp
 s://jewishportland.org/community-calendar/kol-shalom-yom-kippur-service-16
 91800311\n\nJoin Kol Shalom for a Humanistic Yom Kippur service with canto
 r Kevin Minkoff\, cellist Jerry Bobbe and pianist Margaret Bloomfield at W
 est Hills Unitarian Universalist Fellowship. Kol Shalom is a welcoming com
 munity. An oneg social will follow outside. Registration is required with 
 suggested donation of $25. See www.kolshalom.org/store to register.
DTSTART;TZID=America/Los_Angeles:20230924T160000
DTEND;TZID=America/Los_Angeles:20230924T180000
END:VEVENT
END:VCALENDAR
