BEGIN:VCALENDAR
PRODID:-//eluceo/ical//2.0/EN
VERSION:2.0
CALSCALE:GREGORIAN
BEGIN:VEVENT
UID:02cec264942546a7381f1cb5ee818db5
DTSTAMP:20260422T184441Z
SUMMARY:Kol Nidre/Erev Yom Kippur Services at Shaarie Torah
DESCRIPTION:Jewish Federation of Greater Portland\nCommunity Calendar\nhttp
 s://jewishportland.org/community-calendar/kol-nidreerev-yom-kippur-service
 s-at-shaarie-torah\n\nWe welcome you to join us for Kol Nidre Services at
  Shaarie Torah. CST is your place for MORE in 5784!\n\nWe&#39\;ll gathe
 r in our sanctuary with Rabbi Oren and High Holy Day Soloist Rav Na&#39\;
 am﻿a Leviz Applbaum joining us from Israel. We ask everyone to register 
 to let us know you&#39\;re coming. Register here\n\nWe are thankful to ou
 r community members for supporting the synagogue so we can provide joyful\
 , meaningful\, and inspiring Jewish experiences.\n\nIf you are not a membe
 r\, we welcome you ...
DTSTART;TZID=America/Los_Angeles:20230924T183000
DTEND;TZID=America/Los_Angeles:20230924T203000
END:VEVENT
END:VCALENDAR
