BEGIN:VCALENDAR
PRODID:-//eluceo/ical//2.0/EN
VERSION:2.0
CALSCALE:GREGORIAN
BEGIN:VEVENT
UID:80d12fa1565c8ebe9a3f584acc2b3f0b
DTSTAMP:20260419T213447Z
SUMMARY:Kirtan Kabbalah Service with P'nai Or of Portland
DESCRIPTION:Jewish Federation of Greater Portland\nCommunity Calendar\nhttp
 s://jewishportland.org/community-calendar/kirtan-kabbalah-service-with-pna
 i-or-of-portland-1700785069\n\nKabbalistic kirtan (ecstatic\, mystic chant
 )\, blends a Hindu form with Kabbalistic content. Using melodies\, call-an
 d-response and a fusion of Indian and Middle Eastern sounds\, voice\, dron
 e and drum create patterns that evoke ecstatic joy.  On Zoom and in-person
  at the Hillsdale Community Church.  For more information  and link\, emai
 l admin@pnaiorpdx.org.
DTSTART;TZID=America/Los_Angeles:20231201T190000
DTEND;TZID=America/Los_Angeles:20231201T210000
END:VEVENT
END:VCALENDAR
