BEGIN:VCALENDAR
PRODID:-//eluceo/ical//2.0/EN
VERSION:2.0
CALSCALE:GREGORIAN
BEGIN:VEVENT
UID:e8f52db358f811aef5a5d40fe39f2f96
DTSTAMP:20260424T012843Z
SUMMARY:JGSO: Helping Hands Meeting
DESCRIPTION:Jewish Federation of Greater Portland\nCommunity Calendar\nhttp
 s://jewishportland.org/community-calendar/jgso-helping-hands-meeting-16883
 29424\n\nThe JGS of Oregon provides support and insights into your genealo
 gical research.  Bring your questions and computers (not required\, but he
 lpful) to the Hillsdale Library located at 1525 SW Sunset Boulevard Portla
 nd\, OR 97239.  Their phone number is (503) 988-5123 if you need additiona
 l directions.
DTSTART;TZID=America/Los_Angeles:20230709T103000
DTEND;TZID=America/Los_Angeles:20230709T123000
END:VEVENT
END:VCALENDAR
