BEGIN:VCALENDAR
PRODID:-//eluceo/ical//2.0/EN
VERSION:2.0
CALSCALE:GREGORIAN
BEGIN:VEVENT
UID:491dd6677d09888db2ab7d9520b394aa
DTSTAMP:20260425T000453Z
SUMMARY:JGSO: Genealogy by the Clock: What You Can Do with the Time You Hav
 e
DESCRIPTION:Jewish Federation of Greater Portland\nCommunity Calendar\nhttp
 s://jewishportland.org/community-calendar/jgso-genealogy-by-the-clock-what
 -you-can-do-with-the-time-you-have-1688333501\n\nThe JGS of Oregon present
 s a Zoom talk by Daniel Horowitz called "Genealogy by the Clock: What You 
 Can Do with the Time You Have".  Daniel will show you what you can do with
  the time you have.   You can do plenty of activities at any time and in s
 mall increments that will help you make significant headway with your fami
 ly history research.
DTSTART;TZID=America/Los_Angeles:20230910T103000
DTEND;TZID=America/Los_Angeles:20230910T123000
END:VEVENT
END:VCALENDAR
