BEGIN:VCALENDAR
PRODID:-//eluceo/ical//2.0/EN
VERSION:2.0
CALSCALE:GREGORIAN
BEGIN:VEVENT
UID:6738e35913cf2ea771f84457ab951a59
DTSTAMP:20260422T000936Z
SUMMARY:JGSO: Digging into Finding Aids:  The Road Map to Any Manuscript Co
 llection
DESCRIPTION:Jewish Federation of Greater Portland\nCommunity Calendar\nhttp
 s://jewishportland.org/community-calendar/jgso-digging-into-finding-aids--
 the-road-map-to-any-manuscript-collection-1688333838\n\nGenealogists use a
 ll kinds of tools to help with their genealogy research.  One of the best 
 tools to understand and use when working with manuscript collections is a 
 finding aid.   This presentation will help genealogists read\, follow\, an
 d use finding aids to discover their ancestors in archives.
DTSTART;TZID=America/Los_Angeles:20231015T103000
DTEND;TZID=America/Los_Angeles:20231015T123000
END:VEVENT
END:VCALENDAR
