BEGIN:VCALENDAR
PRODID:-//eluceo/ical//2.0/EN
VERSION:2.0
CALSCALE:GREGORIAN
BEGIN:VEVENT
UID:ac9d90d631485bde1522cd6d0bfce2e9
DTSTAMP:20260422T053605Z
SUMMARY:JFGP Cornerstone 2024
DESCRIPTION:Jewish Federation of Greater Portland\nCommunity Calendar\nhttp
 s://jewishportland.org/community-calendar/jfgp-cornerstone-2024\n\nSave th
 e Date.
DTSTART;TZID=America/Los_Angeles:20230828T170000
DTEND;TZID=America/Los_Angeles:20230828T210000
END:VEVENT
END:VCALENDAR
