BEGIN:VCALENDAR
PRODID:-//eluceo/ical//2.0/EN
VERSION:2.0
CALSCALE:GREGORIAN
BEGIN:VEVENT
UID:ce3d802fc5e12e14df412862c20035cb
DTSTAMP:20260420T064148Z
SUMMARY:JFCS Cancer Support Group
DESCRIPTION:Jewish Federation of Greater Portland\nCommunity Calendar\nhttp
 s://jewishportland.org/community-calendar/jfcs-cancer-support-group-169153
 5366\n\nCommunity is important. Cancer is lonely. Jewish Family & Child Se
 rvice has combined these two truths to create this support group open to a
 nyone with a cancer diagnosis. The group will meet via Zoom the second Wed
 nesday of every month and offer a safe space where people can be honest wi
 th one another and themselves – and where they are not taking care of ot
 hers. The facilitators will listen to and support you in this important co
 mmunity of people with some shared experiences.\n\nRabbi Mel...
DTSTART;TZID=America/Los_Angeles:20230809T110000
DTEND;TZID=America/Los_Angeles:20230809T120000
END:VEVENT
END:VCALENDAR
