BEGIN:VCALENDAR
PRODID:-//eluceo/ical//2.0/EN
VERSION:2.0
CALSCALE:GREGORIAN
BEGIN:VEVENT
UID:63c9a753c3290d4285978945abf0f34d
DTSTAMP:20260426T001813Z
SUMMARY:Jewish Federation of Greater Portland's Board Meeting #9
DESCRIPTION:Jewish Federation of Greater Portland\nCommunity Calendar\nhttp
 s://jewishportland.org/community-calendar/jewish-federation-of-greater-por
 tlands-board-meeting-9\n\nJewish Federation of Greater Portland&#39\;s Boa
 rd Meeting.
DTSTART;TZID=America/Los_Angeles:20230511T163000
DTEND;TZID=America/Los_Angeles:20230511T183000
END:VEVENT
END:VCALENDAR
