BEGIN:VCALENDAR
PRODID:-//eluceo/ical//2.0/EN
VERSION:2.0
CALSCALE:GREGORIAN
BEGIN:VEVENT
UID:8adf7ef9b8da8625b0983c652719aa85
DTSTAMP:20260426T001800Z
SUMMARY:Jewish Federation of Greater Portland's Board Meeting #8
DESCRIPTION:Jewish Federation of Greater Portland\nCommunity Calendar\nhttp
 s://jewishportland.org/community-calendar/jewish-federation-of-greater-por
 tlands-board-meeting-8\n\nJewish Federation of Greater Portland&#39\;s Boa
 rd Meeting.
DTSTART;TZID=America/Los_Angeles:20230419T163000
DTEND;TZID=America/Los_Angeles:20230419T183000
END:VEVENT
END:VCALENDAR
