BEGIN:VCALENDAR
PRODID:-//eluceo/ical//2.0/EN
VERSION:2.0
CALSCALE:GREGORIAN
BEGIN:VEVENT
UID:7e74e1980080aeaca3d56065040d6a06
DTSTAMP:20260426T011906Z
SUMMARY:Jewish Community Orchestra Spring Concert
DESCRIPTION:Jewish Federation of Greater Portland\nCommunity Calendar\nhttp
 s://jewishportland.org/community-calendar/jewish-community-orchestra-sprin
 g-concert-1678844754\n\nThe Jewish Community Orchestra presents our Spring
  Concert featuring Dr. Tomás Cotik!
DTSTART;TZID=America/Los_Angeles:20230416T150000
DTEND;TZID=America/Los_Angeles:20230416T170000
END:VEVENT
END:VCALENDAR
