BEGIN:VCALENDAR
PRODID:-//eluceo/ical//2.0/EN
VERSION:2.0
CALSCALE:GREGORIAN
BEGIN:VEVENT
UID:2879a1fe83c78020b2f236d16baafd74
DTSTAMP:20260420T065041Z
SUMMARY:Israeli folk dancing at SWCC
DESCRIPTION:Jewish Federation of Greater Portland\nCommunity Calendar\nhttp
 s://jewishportland.org/community-calendar/israeli-folk-dancing-at-swcc-167
 6137752\n\nEnjoy Israeli folk dancing at the Southwest Community Center wi
 th session leader Rhona Feldman. Everyone is welcome to this drop-in open 
 dance session! Celebrating Israel&#39\;s 75th\, and 50 years of continuous
  Israeli folk dancing in Portland! $6/$5 seniors. See sites.google.com/sit
 e/pifdnews for details.
DTSTART;TZID=America/Los_Angeles:20230212T143000
DTEND;TZID=America/Los_Angeles:20230212T160000
END:VEVENT
END:VCALENDAR
