BEGIN:VCALENDAR
PRODID:-//eluceo/ical//2.0/EN
VERSION:2.0
CALSCALE:GREGORIAN
BEGIN:VEVENT
UID:6e46fa62e66dad0dc6d45cb617bc2600
DTSTAMP:20260419T131602Z
SUMMARY:Israeli folk dance - open session and beginner class
DESCRIPTION:Jewish Federation of Greater Portland\nCommunity Calendar\nhttp
 s://jewishportland.org/community-calendar/israeli-folk-dance---open-sessio
 n-and-beginner-class-1703564168\n\nEnjoy Israeli folk dancing at the South
 west Community Center in a beginner&#39\;s class with instructor Sue Wende
 l\, followed by an open session with leader Rhona Feldman. The beginner&#3
 9\;s class runs Sundays for 5 weeks starting Jan. 14\, ending Feb. 11\, 1:
 30 to 2:30\, $45. Register by calling the SWCC at 503-823-2840.\n\nThe ope
 n session\, 2:30 to 4 pm is drop in\, $6\, $5 seniors. Students can stay f
 or open dancing after the class. Everyone is welcome! See sites.google.com
 /site/pifdnews for more details...
DTSTART;TZID=America/Los_Angeles:20240114T133000
DTEND;TZID=America/Los_Angeles:20240114T160000
END:VEVENT
END:VCALENDAR
