BEGIN:VCALENDAR
PRODID:-//eluceo/ical//2.0/EN
VERSION:2.0
CALSCALE:GREGORIAN
BEGIN:VEVENT
UID:e26218ac996eec2663689ef335c00c5a
DTSTAMP:20260426T034230Z
SUMMARY:Introduction to Israeli Dance
DESCRIPTION:Jewish Federation of Greater Portland\nCommunity Calendar\nhttp
 s://jewishportland.org/community-calendar/introduction-to-israeli-dance-16
 79728498\n\nGet a taste of Israeli dancing in a 3-week class.  If all you 
 know about Israeli dancing is doing the grapevine step to vintage dances\,
  you will be happily surprised. Who is Israeli dancing for? Anyone who lov
 es music and enjoys dancing.
DTSTART;TZID=America/Los_Angeles:20230408T153000
DTEND;TZID=America/Los_Angeles:20230408T164500
END:VEVENT
END:VCALENDAR
