BEGIN:VCALENDAR
PRODID:-//eluceo/ical//2.0/EN
VERSION:2.0
CALSCALE:GREGORIAN
BEGIN:VEVENT
UID:3330050947d7c3c7793698b9c1779588
DTSTAMP:20260426T001803Z
SUMMARY:Integrating Jewish Wisdom and Ecological Thinking to Heal a Fractur
 ed World
DESCRIPTION:Jewish Federation of Greater Portland\nCommunity Calendar\nhttp
 s://jewishportland.org/community-calendar/integrating-jewish-wisdom-and-ec
 ological-thinking-to-heal-a-fractured-world-1683071346\n\nA presentation a
 nd discussion by Rabbi Natan Margalit that will offer pathways toward heal
 ing our most critical issues of climate change\, addiction and social and 
 political fragmentation.
DTSTART;TZID=America/Los_Angeles:20230524T190000
DTEND;TZID=America/Los_Angeles:20230524T203000
END:VEVENT
END:VCALENDAR
