BEGIN:VCALENDAR
PRODID:-//eluceo/ical//2.0/EN
VERSION:2.0
CALSCALE:GREGORIAN
BEGIN:VEVENT
UID:a882c88ddaf27c807a8c01a8f8b9208a
DTSTAMP:20260425T214050Z
SUMMARY:Hungarian Jewish Research
DESCRIPTION:Jewish Federation of Greater Portland\nCommunity Calendar\nhttp
 s://jewishportland.org/community-calendar/hungarian-jewish-research-168755
 0507\n\nFree meeting on Hungarian Jewish Research
DTSTART;TZID=America/Los_Angeles:20230716T103000
DTEND;TZID=America/Los_Angeles:20230716T120000
END:VEVENT
END:VCALENDAR
